BEGIN:VCALENDAR
VERSION:2.0
PRODID:-//ChamberMaster//Event Calendar 2.0//EN
METHOD:PUBLISH
X-PUBLISHED-TTL:P3D
REFRESH-INTERVAL:P3D
CALSCALE:GREGORIAN
BEGIN:VEVENT
DTSTART;VALUE=DATE:20210525
DTEND;VALUE=DATE:20210526
TRANSP:TRANSPARENT
X-MICROSOFT-CDO-ALLDAYEVENT:TRUE
SUMMARY:Bookkeeping 2 - Payroll\, Taxes (May 2021)
DESCRIPTION:The Saskatchewan Chamber of Commerce has partnered with Saskatchewan Polytechnic's School of Continuing Education to deliver virtual programming throughout the province.  Programming is focused on meeting the needs of the local business community by providing training solutions tailored towards business and skills that are in high demand or trending.\n\n\n\nCourse Description:\n\n\n\nAs a small business owner\, understand your responsibilities in meeting compliance regulations. Topics include calculating gross and net pay (D-TD1)\; assessing credit risk\; collecting accounts\; calculating commissions/eligible expenses (T2200\, T777\, TD1X)\; and preparing payroll compliance reports (T4 Summary\, WCB Return). You will practice concepts through a case study\, and learn how to build a business cash flow forecast that results in a business planning tool. Available by webinar.\n\n\n\nTue & Thu evenings\, 6:30pm-9:30pm May 25 - Jun 22 2021.\n\n\n\nTuition: $624.75 including GST\n\nCourse Code: BKPG-1601\n\n27 non-credit hours \n\n\n\nThis is a live online course using Zoom.
X-ALT-DESC;FMTTYPE=text/html:The Saskatchewan Chamber of Commerce has partnered with Saskatchewan Polytechnic&#39\;s School of Continuing Education to deliver virtual programming throughout the province.&nbsp\; Programming is focused on meeting the needs of the local business community by providing training solutions tailored towards business and skills that are in high demand or trending.<br />\n<br />\n<strong>Course Description:</strong><br />\n<br />\nAs a small business owner\, understand your responsibilities in meeting compliance regulations. Topics include calculating gross and net pay (D-TD1)\; assessing credit risk\; collecting accounts\; calculating commissions/eligible expenses (T2200\, T777\, TD1X)\; and preparing payroll compliance reports (T4 Summary\, WCB Return). You will practice concepts through a case study\, and learn how to build a business cash flow forecast that results in a business planning tool. Available by webinar.<br />\n<br />\n<strong>Tue &amp\; Thu evenings\, 6:30pm-9:30pm May 25 - Jun 22 2021.</strong><br />\n<br />\n<strong>Tuition: $624.75 including GST<br />\nCourse Code: BKPG-1601<br />\n27 non-credit hours </strong><br />\n<br />\nThis is a live online course using Zoom.
LOCATION:Online Delivery. Upon registration\, Saskatchewan Polytechnic will contact you to confirm delivery details.
UID:e.779.625
SEQUENCE:3
DTSTAMP:20260425T031843Z
URL:http://chambermaster.saskchamber.com/events/details/bookkeeping-2-payroll-taxes-may-2021-625
END:VEVENT

END:VCALENDAR
